BEGIN:VCALENDAR
VERSION:2.0
PRODID:-//ChamberMaster//Event Calendar 2.0//EN
METHOD:PUBLISH
X-PUBLISHED-TTL:P3D
REFRESH-INTERVAL:P3D
CALSCALE:GREGORIAN
BEGIN:VEVENT
DTSTART:20151208T230000Z
DTEND:20151209T010000Z
X-MICROSOFT-CDO-ALLDAYEVENT:FALSE
SUMMARY:Wells Fargo Advisors Christmas Open House
DESCRIPTION:River Valley Wealth Management\, Wells Fargo Advisors\, Christmas Open House. 4:00 pm to 6:00 pm. Join us for a celebration of the Holidays and  fellowship. Light refreshments and snacks will be served.
X-ALT-DESC;FMTTYPE=text/html:River Valley Wealth Management\, Wells Fargo Advisors\, Christmas Open House. 4:00 pm to 6:00 pm. Join us for a celebration of the Holidays and &nbsp\;fellowship. Light refreshments and snacks will be served.
LOCATION:Wells Fargo Advisors\, 129 S 10th Street
UID:e.2208.967
SEQUENCE:3
DTSTAMP:20260422T224129Z
URL:https://business.parisarkansas.com/events/details/wells-fargo-advisors-christmas-open-house-12-08-2015-967
END:VEVENT

END:VCALENDAR
