BEGIN:VCALENDAR
VERSION:2.0
PRODID:-//ChamberMaster//Event Calendar 2.0//EN
METHOD:PUBLISH
X-PUBLISHED-TTL:P3D
REFRESH-INTERVAL:P3D
CALSCALE:GREGORIAN
BEGIN:VEVENT
DTSTART:20151115T000000Z
DTEND:20151115T020000Z
X-MICROSOFT-CDO-ALLDAYEVENT:FALSE
SUMMARY:Veterans Day Dinner
DESCRIPTION:This is an open invitation to any Veteran of any age and their families. The Cub Scouts and Boy Scouts of Paris\, AR would like to honor all of our Veterans with a meal\, program performed by our scouts. There will be no cost to anyone that would like to attend. Even if your Veteran has passed and their family would like to attend\, please do. No RSVP needed.
X-ALT-DESC;FMTTYPE=text/html:This is an open invitation to any Veteran of any age and their families. The Cub Scouts and Boy Scouts of Paris\, AR would like to honor all of our Veterans with a meal\, program performed by our scouts. There will be no cost to anyone that would like to attend. Even if your Veteran has passed and their family would like to attend\, please do. No RSVP needed.
LOCATION:American Legion Hut/ Scout Hut Paris\, AR
UID:e.2208.751
SEQUENCE:3
DTSTAMP:20260423T002134Z
URL:https://business.parisarkansas.com/events/details/veterans-day-dinner-11-14-2015-751
END:VEVENT

END:VCALENDAR
