BEGIN:VCALENDAR
VERSION:2.0
PRODID:-//ChamberMaster//Event Calendar 2.0//EN
METHOD:PUBLISH
X-PUBLISHED-TTL:P3D
REFRESH-INTERVAL:P3D
CALSCALE:GREGORIAN
BEGIN:VEVENT
DTSTART:20160214T020000Z
DTEND:20160214T055500Z
X-MICROSOFT-CDO-ALLDAYEVENT:FALSE
SUMMARY:Valentine's Day Dance with live music by the Pearson Brothers Band.
DESCRIPTION:Music starts at 8:00 P.M. $5 cover charge at the door.
X-ALT-DESC;FMTTYPE=text/html:Music starts at 8:00 P.M. $5 cover charge at the door.
LOCATION:East End Sports Pub
UID:e.2208.1248
SEQUENCE:3
DTSTAMP:20260422T185937Z
URL:https://business.parisarkansas.com/events/details/valentine-s-day-dance-with-live-music-by-the-pearson-brothers-band-02-13-2016-1248
END:VEVENT

END:VCALENDAR
