BEGIN:VCALENDAR
VERSION:2.0
PRODID:-//ChamberMaster//Event Calendar 2.0//EN
METHOD:PUBLISH
X-PUBLISHED-TTL:P3D
REFRESH-INTERVAL:P3D
CALSCALE:GREGORIAN
BEGIN:VEVENT
DTSTART:20150522T003000Z
DTEND:20150522T013000Z
X-MICROSOFT-CDO-ALLDAYEVENT:FALSE
SUMMARY:Town Hall Meeting sponsored by the PACK Stakeholders
DESCRIPTION:Paris Area Community Kickstart  Stakeholders are holding a Town Hall Meeting at 5:30pm on Thursday May 21 at the community center.  Two topics will be presented and discussed: (1) the PACK Community internet Survey (2) the Plans and Projects of each of the Action Teams - Tourism by Tonya Baumgartner & Heidi Ryan\; Economic Development by Lee Lane\; Quality of Life by Karey Sparks\; and Branding & Marketing by Brad Simon.\n\n\n\nThe Survey covers several topics - visiting downtown Paris\, Eiffel Tower Park\, Quality of Life\, attracting new industries\, educational system\, expanding the participation  in community wide projects\, crime & safety of neighborhoods\, outdoor activities\, housing needs.  We plan to have the key persons available for more in depth discussion of each of these topics.\n\n\n\nPlease come and invite your neighbors and people who live and/or work in the area  who care about Paris area growing and reaching its full potential.
X-ALT-DESC;FMTTYPE=text/html:Paris Area Community Kickstart &nbsp\;Stakeholders are holding a Town Hall Meeting at&nbsp\;5:30pm on Thursday May 21 at the community center. &nbsp\;Two topics will be presented and&nbsp\;discussed: (1) the PACK Community internet Survey (2) the Plans and Projects of each of the&nbsp\;Action Teams - Tourism by Tonya Baumgartner &amp\; Heidi Ryan\; Economic Development by Lee&nbsp\;Lane\; Quality of Life by Karey Sparks\; and Branding &amp\; Marketing by Brad Simon.<br />\n<br />\nThe Survey covers several topics - visiting downtown Paris\, Eiffel Tower Park\, Quality of&nbsp\;Life\, attracting new industries\, educational system\, expanding the participation &nbsp\;in community&nbsp\;wide projects\, crime &amp\; safety of neighborhoods\, outdoor activities\, housing needs. &nbsp\;We plan to&nbsp\;have the key persons available for more in&nbsp\;depth discussion of each of these topics.<br />\n<br />\nPlease come and invite your neighbors and people who live and/or work in the area &nbsp\;who&nbsp\;care about Paris area growing and reaching its full potential.
LOCATION:First National Bank Community Center 11 E. Main St. Paris\, AR 72855
UID:e.2208.738
SEQUENCE:3
DTSTAMP:20260423T114455Z
URL:https://business.parisarkansas.com/events/details/town-hall-meeting-sponsored-by-the-pack-stakeholders-05-21-2015-738
END:VEVENT

END:VCALENDAR
