BEGIN:VCALENDAR
VERSION:2.0
PRODID:-//ChamberMaster//Event Calendar 2.0//EN
METHOD:PUBLISH
X-PUBLISHED-TTL:P3D
REFRESH-INTERVAL:P3D
CALSCALE:GREGORIAN
BEGIN:VEVENT
DTSTART:20160613T163000Z
DTEND:20160613T173000Z
X-MICROSOFT-CDO-ALLDAYEVENT:FALSE
SUMMARY:Tommy Terrific Wacky Magic
DESCRIPTION:Get ready to laugh with this humor filled wacky magic show. Engaging fun for the whole family.
X-ALT-DESC;FMTTYPE=text/html:Get ready to laugh with this humor filled wacky magic show. Engaging fun for the whole family.
LOCATION:Boyd T. & Mollie Gattis Logan County Library 100 E Academy Paris AR 72855
UID:e.2208.1459
SEQUENCE:3
DTSTAMP:20260422T122625Z
URL:https://business.parisarkansas.com/events/details/tommy-terrific-wacky-magic-06-13-2016-1459
END:VEVENT

END:VCALENDAR
