BEGIN:VCALENDAR
VERSION:2.0
PRODID:-//ChamberMaster//Event Calendar 2.0//EN
METHOD:PUBLISH
X-PUBLISHED-TTL:P3D
REFRESH-INTERVAL:P3D
CALSCALE:GREGORIAN
BEGIN:VEVENT
DTSTART:20240407T180000Z
DTEND:20240407T200000Z
X-MICROSOFT-CDO-ALLDAYEVENT:FALSE
SUMMARY:The Nights Sky
DESCRIPTION:The Nights Sky \n\nEnjoy being under the night sky and wear a real space suit\n\nApril 6\, 2024 - 11:00 a.m. to 2:00 p.m.\n\nApril 7\, 2024 - 1:00 p.m. to 3:00 p.m.
X-ALT-DESC;FMTTYPE=text/html:The Nights Sky&nbsp\;<br />\nEnjoy being under the night sky and wear a real space suit<br />\nApril 6\, 2024 - 11:00 a.m. to 2:00 p.m.<br />\nApril 7\, 2024 - 1:00 p.m. to 3:00 p.m.&nbsp\;&nbsp\;&nbsp\;&nbsp\;&nbsp\;&nbsp\;&nbsp\;&nbsp\;
LOCATION:Union Bank Community Center 23 East Main Street Paris\, AR 72855
UID:e.2208.3213
SEQUENCE:3
DTSTAMP:20260422T230058Z
URL:https://business.parisarkansas.com/events/details/the-nights-sky-3213
END:VEVENT

END:VCALENDAR
