BEGIN:VCALENDAR
VERSION:2.0
PRODID:-//ChamberMaster//Event Calendar 2.0//EN
METHOD:PUBLISH
X-PUBLISHED-TTL:P3D
REFRESH-INTERVAL:P3D
CALSCALE:GREGORIAN
BEGIN:VEVENT
DTSTART:20151003T020000Z
DTEND:20151003T040000Z
X-MICROSOFT-CDO-ALLDAYEVENT:FALSE
SUMMARY:The Mud Run
DESCRIPTION:MUD RUN: Date: Friday\, October 2\, 2016 at 7:00 PM Location: Two Rivers Park Address: 6900 Two Rivers Road Little Rock\, AR 72223 ?Little Rock's Dirtiest 5K? ? Here's the Down & Dirty . . . Created for those who think a little differently about this runnin' stuff. The Mud Run is definitely NOT your average 5K. The Mud Run is for the adventuresome spirit and is a family friendly race. Participants run\, walk\, skip\, trot and even cavort through our 5K(ish - please refer to helpful hints section of the website for the clarification of "ish") course\, which winds through a scenic Little Rock Park. Participants must overcome an "obstacle" or two along the way. Then finish with a spectacular frolic (but in most cases romp) through our world-renowned 300-foot mud pit\, which is filled with that amazing Arkansas mud! The point is not to finish fast but to finish with style. Visit www.mudrun.org ?Like? us on Facebook! http://www.facebook.com/mudrunlittlerock
X-ALT-DESC;FMTTYPE=text/html:MUD RUN: Date: Friday\, October 2\, 2016 at 7:00 PM Location: Two Rivers Park Address: 6900 Two Rivers Road Little Rock\, AR 72223 ?Little Rock&#39\;s Dirtiest 5K? ? Here&#39\;s the Down &amp\; Dirty . . . Created for those who think a little differently about this runnin&#39\; stuff. The Mud Run is definitely NOT your average 5K. The Mud Run is for the adventuresome spirit and is a family friendly race. Participants run\, walk\, skip\, trot and even cavort through our 5K(ish - please refer to helpful hints section of the website for the clarification of &quot\;ish&quot\;) course\, which winds through a scenic Little Rock Park. Participants must overcome an &quot\;obstacle&quot\; or two along the way. Then finish with a spectacular frolic (but in most cases romp) through our world-renowned 300-foot mud pit\, which is filled with that amazing Arkansas mud! The point is not to finish fast but to finish with style. Visit www.mudrun.org ?Like? us on Facebook! http://www.facebook.com/mudrunlittlerock
LOCATION:
UID:e.2208.749
SEQUENCE:3
DTSTAMP:20260423T033100Z
URL:https://business.parisarkansas.com/events/details/the-mud-run-10-02-2015-749
END:VEVENT

END:VCALENDAR
