BEGIN:VCALENDAR
VERSION:2.0
PRODID:-//ChamberMaster//Event Calendar 2.0//EN
METHOD:PUBLISH
X-PUBLISHED-TTL:P3D
REFRESH-INTERVAL:P3D
CALSCALE:GREGORIAN
BEGIN:VEVENT
DTSTART:20160319T150000Z
DTEND:20160319T180000Z
X-MICROSOFT-CDO-ALLDAYEVENT:FALSE
SUMMARY:The Great Hunt (Community Easter Egg Hunt)
DESCRIPTION:The Great Hunt is our community Easter Egg Hunt sponsored by local businesses\, churches\, and organizations. We have 30\,000 prize and candy filled eggs with four separate egg hunts for different age levels\, and inflatable play area\, face painting\, pony rides and much more. Concession stand is on site and all money raised helps fund the next years Great Hunt. Plan on eating with us!!
X-ALT-DESC;FMTTYPE=text/html:The Great Hunt is our community Easter Egg Hunt sponsored by local businesses\, churches\, and organizations. We have 30\,000 prize and candy filled eggs with four separate egg hunts for different age levels\, and inflatable play area\, face painting\, pony rides and much more. Concession stand is on site and all money raised helps fund the next years Great Hunt. Plan on eating with us!!
LOCATION:Logan County Fairgrounds
UID:e.2208.1247
SEQUENCE:3
DTSTAMP:20260422T185852Z
URL:https://business.parisarkansas.com/events/details/the-great-hunt-community-easter-egg-hunt-03-19-2016-1247
END:VEVENT

END:VCALENDAR
