BEGIN:VCALENDAR
VERSION:2.0
PRODID:-//ChamberMaster//Event Calendar 2.0//EN
METHOD:PUBLISH
X-PUBLISHED-TTL:P3D
REFRESH-INTERVAL:P3D
CALSCALE:GREGORIAN
BEGIN:VEVENT
DTSTART:20170408T160000Z
DTEND:20170408T190000Z
X-MICROSOFT-CDO-ALLDAYEVENT:FALSE
SUMMARY:The Great Hunt
DESCRIPTION:The event is free and provides over 30\,000 prize and candy filled eggs for four separate egg hunts for four different age levels. Other activities typically include an inflatable play area\, kiddy train\, and face painting for free. Concessions\, vendors\, and pony rides are available also but require cash. Come eat lunch with us!!! Egg Hunt Schedule: 11:30 am 0-3 Years noon 4-6 Years 12:30 pm 7-9 Years 1:00 pm 10-12 Years
X-ALT-DESC;FMTTYPE=text/html:The event is free and provides over 30\,000 prize and candy filled eggs for four separate egg hunts for four different age levels. Other activities typically include an inflatable play area\, kiddy train\, and face painting for free. Concessions\, vendors\, and pony rides are available also but require cash. Come eat lunch with us!!! Egg Hunt Schedule: 11:30 am 0-3 Years noon 4-6 Years 12:30 pm 7-9 Years 1:00 pm 10-12 Years
LOCATION:Paris High School / Wood Street Park
UID:e.2208.1917
SEQUENCE:3
DTSTAMP:20260421T194459Z
URL:https://business.parisarkansas.com/events/details/the-great-hunt-1917
END:VEVENT

END:VCALENDAR
