BEGIN:VCALENDAR
VERSION:2.0
PRODID:-//ChamberMaster//Event Calendar 2.0//EN
METHOD:PUBLISH
X-PUBLISHED-TTL:P3D
REFRESH-INTERVAL:P3D
CALSCALE:GREGORIAN
BEGIN:VEVENT
DTSTART:20160319T180000Z
DTEND:20160319T210000Z
X-MICROSOFT-CDO-ALLDAYEVENT:FALSE
SUMMARY:The Great Hunt
DESCRIPTION:The annual community-wide Easter egg hunt. This event is FREE and provides over 30\,000 candy and prize-filled eggs. Each age group will have its own hunt time\; check website for more details!
X-ALT-DESC;FMTTYPE=text/html:The annual community-wide Easter egg hunt. This event is FREE and provides over 30\,000 candy and prize-filled eggs. Each age group will have its own hunt time\; check website for more details!
LOCATION:Logan County Fairgrounds off Hwy 22
UID:e.2208.970
SEQUENCE:3
DTSTAMP:20260422T171337Z
URL:https://business.parisarkansas.com/events/details/the-great-hunt-03-19-2016-970
END:VEVENT

END:VCALENDAR
