BEGIN:VCALENDAR
VERSION:2.0
PRODID:-//ChamberMaster//Event Calendar 2.0//EN
METHOD:PUBLISH
X-PUBLISHED-TTL:P3D
REFRESH-INTERVAL:P3D
CALSCALE:GREGORIAN
BEGIN:VEVENT
DTSTART:20190813T230000Z
DTEND:20190814T010000Z
X-MICROSOFT-CDO-ALLDAYEVENT:FALSE
SUMMARY:The CALL in the River Valley Information Meeting
DESCRIPTION:Please join The CALL and DCFS to learn how you can become a foster or adoptive home. We will also discuss ways for individuals\, churches\, and groups to volunteer for The CALL to serve local foster and adoptive families.
X-ALT-DESC;FMTTYPE=text/html:Please join The CALL and DCFS to learn how you can become a foster or adoptive home. We will also discuss ways for individuals\, churches\, and groups to volunteer for The CALL to serve local foster and adoptive families.
LOCATION:Fernwood Assembly of God 1561 County Road 2305 Hartman\, AR 72830
UID:e.2208.2291
SEQUENCE:3
DTSTAMP:20260420T000002Z
URL:https://business.parisarkansas.com/events/details/the-call-in-the-river-valley-information-meeting-2291
END:VEVENT

END:VCALENDAR
