BEGIN:VCALENDAR
VERSION:2.0
PRODID:-//ChamberMaster//Event Calendar 2.0//EN
METHOD:PUBLISH
X-PUBLISHED-TTL:P3D
REFRESH-INTERVAL:P3D
CALSCALE:GREGORIAN
BEGIN:VEVENT
DTSTART:20180321T140000Z
DTEND:20180321T170000Z
X-MICROSOFT-CDO-ALLDAYEVENT:FALSE
SUMMARY:TEFAP
DESCRIPTION:ARVAC\, Inc. will issue The Emergency Food Assistance Program aka TEFAP commodities at the Logan County Fairgrounds on hwy 22 east of Paris from 9:00 - 12:00 March 21\, 2018. Contact the ARVAC office for more information (479)963-6325.
X-ALT-DESC;FMTTYPE=text/html:ARVAC\, Inc. will issue The Emergency Food Assistance Program aka TEFAP commodities at the Logan County Fairgrounds on hwy 22 east of Paris from 9:00 - 12:00 March 21\, 2018. Contact the ARVAC office for more information (479)963-6325.
LOCATION:Logan county Fairgrounds Hwy 22 Paris
UID:e.2208.2225
SEQUENCE:3
DTSTAMP:20260421T020801Z
URL:https://business.parisarkansas.com/events/details/tefap-2225
END:VEVENT

END:VCALENDAR
