BEGIN:VCALENDAR
VERSION:2.0
PRODID:-//ChamberMaster//Event Calendar 2.0//EN
METHOD:PUBLISH
X-PUBLISHED-TTL:P3D
REFRESH-INTERVAL:P3D
CALSCALE:GREGORIAN
BEGIN:VEVENT
DTSTART:20160603T153000Z
DTEND:20160603T163000Z
X-MICROSOFT-CDO-ALLDAYEVENT:FALSE
SUMMARY:Super Science
DESCRIPTION:This is kick off for our Summer Reading Program. Entertaining\, engaging and educational excitement all rolled into one fantastic program. Science experiments demonstrated with the help of audience member. A fantastic program for all ages.
X-ALT-DESC;FMTTYPE=text/html:This is kick off for our Summer Reading Program. Entertaining\, engaging and educational excitement all rolled into one fantastic program. Science experiments demonstrated with the help of audience member. A fantastic program for all ages.
LOCATION:Boyd T. & Mollie Gattis Logan County Library
UID:e.2208.1458
SEQUENCE:3
DTSTAMP:20260422T140527Z
URL:https://business.parisarkansas.com/events/details/super-science-06-03-2016-1458
END:VEVENT

END:VCALENDAR
