BEGIN:VCALENDAR
VERSION:2.0
PRODID:-//ChamberMaster//Event Calendar 2.0//EN
METHOD:PUBLISH
X-PUBLISHED-TTL:P3D
REFRESH-INTERVAL:P3D
CALSCALE:GREGORIAN
BEGIN:VEVENT
DTSTART:20180303T220000Z
DTEND:20180304T030000Z
X-MICROSOFT-CDO-ALLDAYEVENT:FALSE
SUMMARY:Subiaco Academy Spring Carnival
DESCRIPTION:Subiaco's Spring Carnival features games for the kids\, bingo\, wine and beer tasting\, silent and live auctions\, and a delicious food court. Come join us for some great family fun!
X-ALT-DESC;FMTTYPE=text/html:Subiaco&#39\;s Spring Carnival features games for the kids\, bingo\, wine and beer tasting\, silent and live auctions\, and a delicious food court. Come join us for some great family fun!
LOCATION:Subiaco Academy Fieldhouse
UID:e.2208.2223
SEQUENCE:3
DTSTAMP:20260421T034943Z
URL:https://business.parisarkansas.com/events/details/subiaco-academy-spring-carnival-2223
END:VEVENT

END:VCALENDAR
