BEGIN:VCALENDAR
VERSION:2.0
PRODID:-//ChamberMaster//Event Calendar 2.0//EN
METHOD:PUBLISH
X-PUBLISHED-TTL:P3D
REFRESH-INTERVAL:P3D
CALSCALE:GREGORIAN
BEGIN:VEVENT
DTSTART:20200307T220000Z
DTEND:20200308T030000Z
X-MICROSOFT-CDO-ALLDAYEVENT:FALSE
SUMMARY:Subiaco Academy Spring Carnival
DESCRIPTION:Subiaco Academy's Spring Carnival is a fun event for the whole family. There will be games for the kids\, bingo\, wine and beer tasting\, and a silent and live auction as well as plenty of great food!
X-ALT-DESC;FMTTYPE=text/html:Subiaco Academy&#39\;s Spring Carnival is a fun event for the whole family. There will be games for the kids\, bingo\, wine and beer tasting\, and a silent and live auction as well as plenty of great food!
LOCATION:Subiaco Academy Fieldhouse
UID:e.2208.2452
SEQUENCE:3
DTSTAMP:20260419T123223Z
URL:https://business.parisarkansas.com/events/details/subiaco-academy-spring-carnival-03-07-2020-2452
END:VEVENT

END:VCALENDAR
