BEGIN:VCALENDAR
VERSION:2.0
PRODID:-//ChamberMaster//Event Calendar 2.0//EN
METHOD:PUBLISH
X-PUBLISHED-TTL:P3D
REFRESH-INTERVAL:P3D
CALSCALE:GREGORIAN
BEGIN:VEVENT
DTSTART:20190302T220000Z
DTEND:20190303T030000Z
X-MICROSOFT-CDO-ALLDAYEVENT:FALSE
SUMMARY:Subiaco Academy Spring Carnival
DESCRIPTION:The Carnival is a fun family event featuring bingo\, kids' games\, inflatables\, wine and beer tasting\, and entertainment by the Subiaco Jazz Ensemble. There will be a fully stocked food court and a wonderful array of prizes in the silent and live auctions. An online auction featuring a guided duck hunt and cedar chest will be held prior to the event opening on February 21st and running through March 1st. The grand prize for the raffle this year is a Textron Off Road Utility Vehicle with trailer. Other prizes are $1000 cash and a tablet. For more information or for ticket forms\, contact us at 479-934-1001 or subiaco@subi.org.
X-ALT-DESC;FMTTYPE=text/html:The Carnival is a fun family event featuring bingo\, kids&#39\; games\, inflatables\, wine and beer tasting\, and entertainment by the Subiaco Jazz Ensemble. There will be a fully stocked food court and a wonderful array of prizes in the silent and live auctions. An online auction featuring a guided duck hunt and cedar chest will be held prior to the event opening on February 21st and running through March 1st. The grand prize for the raffle this year is a Textron Off Road Utility Vehicle with trailer. Other prizes are $1000 cash and a tablet. For more information or for ticket forms\, contact us at 479-934-1001 or subiaco@subi.org.
LOCATION:Subiaco Academy Fieldhouse
UID:e.2208.2285
SEQUENCE:3
DTSTAMP:20260420T072810Z
URL:https://business.parisarkansas.com/events/details/subiaco-academy-spring-carnival-03-02-2019-2285
END:VEVENT

END:VCALENDAR
