BEGIN:VCALENDAR
VERSION:2.0
PRODID:-//ChamberMaster//Event Calendar 2.0//EN
METHOD:PUBLISH
X-PUBLISHED-TTL:P3D
REFRESH-INTERVAL:P3D
CALSCALE:GREGORIAN
BEGIN:VEVENT
DTSTART:20170304T220000Z
DTEND:20170305T030000Z
X-MICROSOFT-CDO-ALLDAYEVENT:FALSE
SUMMARY:Subiaco Academy Carnival
DESCRIPTION:This exciting event will be an evening filled with great family fun and entertainment. An online auction will be held prior to the event beginning on February 24 with a guided duck hunt\, a Bolt rifle\, customized cedar chest\, and a two night stay at the luxurious Graham Hotel in Georgetown as the feature items. To place a bid\, visit www.subiacoacademy.us The carnival will feature bingo\, inflatable games\, activities for the entire family including a well stocked Country Store\, favorite children's games\, musical entertainment featuring the Subiaco Academy Jazz Ensemble and a wonderful array of prizes in the silent and live auctions. The food court will be serving hamburgers\, pulled pork sandwiches and meals\, and a variety of snack food items. Post Winery will provide wine tasting and new this year will be craft beer tasting by Leap of Faith Brewery. The raffle will include a Spartan Mark Martin Limited Edition zero turn mower to the first prize winner\, $1000 cash as second prize and a 55" Vizio flat screen tv as third prize. Come join us for an evening of great food\, fun\, entertainment and fellowship. For more information or to purchase raffle tickets contact us by phone or mail at Subiaco Academy\, 405 N Subiaco Ave\, Subiaco\, AR 72865\, 479-934-1001\, or visit our website at www.subiacoacademy.us
X-ALT-DESC;FMTTYPE=text/html:This exciting event will be an evening filled with great family fun and entertainment. An online auction will be held prior to the event beginning on February 24 with a guided duck hunt\, a Bolt rifle\, customized cedar chest\, and a two night stay at the luxurious Graham Hotel in Georgetown as the feature items. To place a bid\, visit www.subiacoacademy.us The carnival will feature bingo\, inflatable games\, activities for the entire family including a well stocked Country Store\, favorite children&rsquo\;s games\, musical entertainment featuring the Subiaco Academy Jazz Ensemble and a wonderful array of prizes in the silent and live auctions. The food court will be serving hamburgers\, pulled pork sandwiches and meals\, and a variety of snack food items. Post Winery will provide wine tasting and new this year will be craft beer tasting by Leap of Faith Brewery. The raffle will include a Spartan Mark Martin Limited Edition zero turn mower to the first prize winner\, $1000 cash as second prize and a 55&rdquo\; Vizio flat screen tv as third prize. Come join us for an evening of great food\, fun\, entertainment and fellowship. For more information or to purchase raffle tickets contact us by phone or mail at Subiaco Academy\, 405 N Subiaco Ave\, Subiaco\, AR 72865\, 479-934-1001\, or visit our website at www.subiacoacademy.us
LOCATION:Academy Fieldhouse Subiaco\, AR
UID:e.2208.1920
SEQUENCE:3
DTSTAMP:20260421T213659Z
URL:https://business.parisarkansas.com/events/details/subiaco-academy-carnival-1920
END:VEVENT

END:VCALENDAR
