BEGIN:VCALENDAR
VERSION:2.0
PRODID:-//ChamberMaster//Event Calendar 2.0//EN
METHOD:PUBLISH
X-PUBLISHED-TTL:P3D
REFRESH-INTERVAL:P3D
CALSCALE:GREGORIAN
BEGIN:VEVENT
DTSTART:20160331T230000Z
DTEND:20160401T003000Z
X-MICROSOFT-CDO-ALLDAYEVENT:FALSE
SUMMARY:STEREO - Small Business / Workforce Development
DESCRIPTION:Small Business owners\, key employees\, hiring managers\, and HR representatives are welcome! This is a free event hosted by Miles Crawford\, Chair of the Western Arkansas Workforce Development Board with the intent of having informal discussion around the issues in growth that small businesses in the area facing\, including but not limited to the workforce.
X-ALT-DESC;FMTTYPE=text/html:Small Business owners\, key employees\, hiring managers\, and HR representatives are welcome! This is a free event hosted by Miles Crawford\, Chair of the Western Arkansas Workforce Development Board with the intent of having informal discussion around the issues in growth that small businesses in the area facing\, including but not limited to the workforce.
LOCATION:FNB Community Center
UID:e.2208.1453
SEQUENCE:3
DTSTAMP:20260422T185404Z
URL:https://business.parisarkansas.com/events/details/stereo-small-business-workforce-development-03-31-2016-1453
END:VEVENT

END:VCALENDAR
