BEGIN:VCALENDAR
VERSION:2.0
PRODID:-//ChamberMaster//Event Calendar 2.0//EN
METHOD:PUBLISH
X-PUBLISHED-TTL:P3D
REFRESH-INTERVAL:P3D
CALSCALE:GREGORIAN
BEGIN:VEVENT
DTSTART:20150323T190000Z
DTEND:20150327T190000Z
X-MICROSOFT-CDO-ALLDAYEVENT:FALSE
SUMMARY:State-wide Spring Break
DESCRIPTION:
X-ALT-DESC;FMTTYPE=text/html:
LOCATION:
UID:e.2208.205
SEQUENCE:3
DTSTAMP:20260423T131329Z
URL:https://business.parisarkansas.com/events/details/state-wide-spring-break-03-23-2015-205
END:VEVENT

END:VCALENDAR
