BEGIN:VCALENDAR
VERSION:2.0
PRODID:-//ChamberMaster//Event Calendar 2.0//EN
METHOD:PUBLISH
X-PUBLISHED-TTL:P3D
REFRESH-INTERVAL:P3D
CALSCALE:GREGORIAN
BEGIN:VEVENT
DTSTART:20160207T010000Z
DTEND:20160207T070000Z
X-MICROSOFT-CDO-ALLDAYEVENT:FALSE
SUMMARY:St. Joseph School Mardi Gras
DESCRIPTION:Dinner\, dance\, and silent/live auction fundraiser benefiting St. Joseph Catholic School. Please visit the Mardi Gras website to purchase tickets\, make a donation and bid on silent auction items at www.bidpal.net/stjosephmardigras
X-ALT-DESC;FMTTYPE=text/html:Dinner\, dance\, and silent/live auction fundraiser benefiting St. Joseph Catholic School. Please visit the Mardi Gras website to purchase tickets\, make a donation and bid on silent auction items at www.bidpal.net/stjosephmardigras
LOCATION:First National Bank Community Center Paris\, Arkansas
UID:e.2208.969
SEQUENCE:3
DTSTAMP:20260422T190943Z
URL:https://business.parisarkansas.com/events/details/st-joseph-school-mardi-gras-02-06-2016-969
END:VEVENT

END:VCALENDAR
