BEGIN:VCALENDAR
VERSION:2.0
PRODID:-//ChamberMaster//Event Calendar 2.0//EN
METHOD:PUBLISH
X-PUBLISHED-TTL:P3D
REFRESH-INTERVAL:P3D
CALSCALE:GREGORIAN
BEGIN:VEVENT
DTSTART:20260502T150000Z
DTEND:20260502T210000Z
X-MICROSOFT-CDO-ALLDAYEVENT:FALSE
SUMMARY:Spring Time in Paris
DESCRIPTION:Spring Time in Paris Festival!!! \nCraft and food vendors\, live entertainment\, pooches on parade\, Miss Paris pageant\, bounce houses\, kid zone\, contests\, games\, and special guests will also be there throughout the day!! Come join us for Spring Time in Paris!!!\n\n\n\nSaturday May 2\, 2026\n\n10:00 a.m. to 4:00 p.m. \n\nParis downtown square
X-ALT-DESC;FMTTYPE=text/html:<h1 style="font-style: italic\;"><span style="font-family:tahoma\;">Spring Time in Paris Festival!!!&nbsp\;</span></h1>\nCraft and food vendors\, live entertainment\, pooches on parade\, Miss Paris pageant\, bounce houses\, kid zone\, contests\, games\, and special guests will also be there throughout the day!! Come join us for Spring Time in Paris!!!<br />\n<br />\nSaturday May 2\, 2026<br />\n10:00 a.m. to 4:00 p.m.&nbsp\;<br />\nParis downtown square<br />\n<br />\n<span style="font-family:arial\;"><span style="color:#000080\;"><span style="font-size:18px\;"><strong><em>&nbsp\; &nbsp\; &nbsp\; &nbsp\; &nbsp\; &nbsp\; &nbsp\; &nbsp\; &nbsp\; &nbsp\; &nbsp\; &nbsp\; &nbsp\; &nbsp\; &nbsp\; &nbsp\; &nbsp\; &nbsp\;&nbsp\;</em></strong></span></span></span>
LOCATION:Paris Square
UID:e.2208.3264
SEQUENCE:3
DTSTAMP:20260419T185036Z
URL:https://business.parisarkansas.com/events/details/spring-time-in-paris-3264
END:VEVENT

END:VCALENDAR
