BEGIN:VCALENDAR
VERSION:2.0
PRODID:-//ChamberMaster//Event Calendar 2.0//EN
METHOD:PUBLISH
X-PUBLISHED-TTL:P3D
REFRESH-INTERVAL:P3D
CALSCALE:GREGORIAN
BEGIN:VEVENT
DTSTART:20150508T220000Z
DTEND:20150509T000000Z
X-MICROSOFT-CDO-ALLDAYEVENT:FALSE
SUMMARY:Spring carnival at PES
DESCRIPTION:PTO Spring Carnival held at the PES school. The event is full of games\, prizes\, and fun for the whole family. Buy chances to win great prizes and raffles.
X-ALT-DESC;FMTTYPE=text/html:PTO Spring Carnival held at the PES school. The event is full of games\, prizes\, and fun for the whole family. Buy chances to win great prizes and raffles.&nbsp\;
LOCATION:PES
UID:e.2208.726
SEQUENCE:3
DTSTAMP:20260423T095128Z
URL:https://business.parisarkansas.com/events/details/spring-carnival-at-pes-05-08-2015-726
END:VEVENT

END:VCALENDAR
