BEGIN:VCALENDAR
VERSION:2.0
PRODID:-//ChamberMaster//Event Calendar 2.0//EN
METHOD:PUBLISH
X-PUBLISHED-TTL:P3D
REFRESH-INTERVAL:P3D
CALSCALE:GREGORIAN
BEGIN:VEVENT
DTSTART:20151102T190000Z
DTEND:20160201T190000Z
X-MICROSOFT-CDO-ALLDAYEVENT:FALSE
SUMMARY:Spring 2016 Single Parent Scholarship Applications OPEN
DESCRIPTION:Spring 2016 Logan Co. Single Parent Scholarship Fund Applications are OPEN for qualified single parents seeking post-secondary education.
X-ALT-DESC;FMTTYPE=text/html:Spring 2016 Logan Co. Single Parent Scholarship Fund Applications are OPEN for qualified single parents seeking post-secondary education.
LOCATION:
UID:e.2208.736
SEQUENCE:3
DTSTAMP:20260422T204555Z
URL:https://business.parisarkansas.com/events/details/spring-2016-single-parent-scholarship-applications-open-11-02-2015-736
END:VEVENT

END:VCALENDAR
