BEGIN:VCALENDAR
VERSION:2.0
PRODID:-//ChamberMaster//Event Calendar 2.0//EN
METHOD:PUBLISH
X-PUBLISHED-TTL:P3D
REFRESH-INTERVAL:P3D
CALSCALE:GREGORIAN
BEGIN:VEVENT
DTSTART:20260221T160000Z
DTEND:20260221T180000Z
X-MICROSOFT-CDO-ALLDAYEVENT:FALSE
SUMMARY:Special Olympics Arkansas Polar Plunge
DESCRIPTION:2026 Logan County Polar Plunge for Special Olympics Arkansas Every year\, thousands of people jump into freezing cold water to support Special Olympics Arkansas. By plunging with us\, you help bring opportunity and inclusion to over 19\,500 Special Olympics athletes and Young Athletes across the state! February 21\, 2026 Cove Lake 19 Cove Lake Loop\, Paris\, AR On-site Registration: 10:00am Awards: 10:30am Plunge: 11:00am
X-ALT-DESC;FMTTYPE=text/html:2026 Logan County Polar Plunge for Special Olympics Arkansas Every year\, thousands of people jump into freezing cold water to support Special Olympics Arkansas. By plunging with us\, you help bring opportunity and inclusion to over 19\,500 Special Olympics athletes and Young Athletes across the state! February 21\, 2026 Cove Lake 19 Cove Lake Loop\, Paris\, AR On-site Registration: 10:00am Awards: 10:30am Plunge: 11:00am
LOCATION:19 Cove Lake Loop\, Paris\, AR
UID:e.2208.3270
SEQUENCE:3
DTSTAMP:20260419T205450Z
URL:https://business.parisarkansas.com/events/details/special-olympics-arkansas-polar-plunge-3270
END:VEVENT

END:VCALENDAR
