BEGIN:VCALENDAR
VERSION:2.0
PRODID:-//ChamberMaster//Event Calendar 2.0//EN
METHOD:PUBLISH
X-PUBLISHED-TTL:P3D
REFRESH-INTERVAL:P3D
CALSCALE:GREGORIAN
BEGIN:VEVENT
DTSTART:20160924T210000Z
DTEND:20160925T000000Z
X-MICROSOFT-CDO-ALLDAYEVENT:FALSE
SUMMARY:Spaghetti Dinner Fundraiser
DESCRIPTION:Ella Comeaux has earned the opportunity to perform at the Liberty Bowl as an All American Cheerleader. She will be representing Paris in the parade and the half time performance. Come show your support at the Spaghetti Dinner Fundraiser where there will be dinner\, horse and buggy rides\, a silent auction and fun for the whole family!
X-ALT-DESC;FMTTYPE=text/html:Ella Comeaux has earned the opportunity to perform at the Liberty Bowl as an All American Cheerleader. She will be representing Paris in the parade and the half time performance. Come show your support at the Spaghetti Dinner Fundraiser where there will be dinner\, horse and buggy rides\, a silent auction and fun for the whole family!
LOCATION:The old Cafe 109 10682 Hwy 109 Paris\, AR 72855
UID:e.2208.1899
SEQUENCE:3
DTSTAMP:20260422T074157Z
URL:https://business.parisarkansas.com/events/details/spaghetti-dinner-fundraiser-09-24-2016-1899
END:VEVENT

END:VCALENDAR
