BEGIN:VCALENDAR
VERSION:2.0
PRODID:-//ChamberMaster//Event Calendar 2.0//EN
METHOD:PUBLISH
X-PUBLISHED-TTL:P3D
REFRESH-INTERVAL:P3D
CALSCALE:GREGORIAN
BEGIN:VEVENT
DTSTART:20151101T180000Z
DTEND:20151101T210000Z
X-MICROSOFT-CDO-ALLDAYEVENT:FALSE
SUMMARY:Spaghetti Dinner and Raffle Fundraiser
DESCRIPTION:St. Joseph Catholic School PTO is hosting a spaghetti dinner and raffle to benefit St. Joseph Catholic School. Menu: Spaghetti\, Salad\, Garlic Bread\, Assorted Desserts\, and Beverage
X-ALT-DESC;FMTTYPE=text/html:St. Joseph Catholic School PTO is hosting a spaghetti dinner and raffle to benefit St. Joseph Catholic School. Menu: Spaghetti\, Salad\, Garlic Bread\, Assorted Desserts\, and Beverage
LOCATION:St. Joseph Catholic Church Parish Hall. 25 South Spruce St\, Paris\, AR
UID:e.2208.963
SEQUENCE:3
DTSTAMP:20260423T002242Z
URL:https://business.parisarkansas.com/events/details/spaghetti-dinner-and-raffle-fundraiser-11-01-2015-963
END:VEVENT

END:VCALENDAR
