BEGIN:VCALENDAR
VERSION:2.0
PRODID:-//ChamberMaster//Event Calendar 2.0//EN
METHOD:PUBLISH
X-PUBLISHED-TTL:P3D
REFRESH-INTERVAL:P3D
CALSCALE:GREGORIAN
BEGIN:VEVENT
DTSTART:20150711T150000Z
DTEND:20150711T190000Z
X-MICROSOFT-CDO-ALLDAYEVENT:FALSE
SUMMARY:Single Parent Scholarship Fund Golf Tournament
DESCRIPTION:Logan Co. Single Parent Scholarship Fund annual Golf Tournament at Cherokee Creek Golf Club in Booneville. Four person scramble registration at 8AM\, with tee time at 10 AM
X-ALT-DESC;FMTTYPE=text/html:Logan Co. Single Parent Scholarship Fund annual Golf Tournament at Cherokee Creek Golf Club in Booneville. Four person scramble registration at 8AM\, with tee time at 10&nbsp\;AM
LOCATION:Cherokee Creek Golf Club in Booneville\, AR
UID:e.2208.733
SEQUENCE:3
DTSTAMP:20260423T063709Z
URL:https://business.parisarkansas.com/events/details/single-parent-scholarship-fund-golf-tournament-07-11-2015-733
END:VEVENT

END:VCALENDAR
