BEGIN:VCALENDAR
VERSION:2.0
PRODID:-//ChamberMaster//Event Calendar 2.0//EN
METHOD:PUBLISH
X-PUBLISHED-TTL:P3D
REFRESH-INTERVAL:P3D
CALSCALE:GREGORIAN
BEGIN:VEVENT
DTSTART:20150722T020500Z
DTEND:20150722T030000Z
X-MICROSOFT-CDO-ALLDAYEVENT:FALSE
SUMMARY:Shepherds of Mt. Magazine Chapter Meeting
DESCRIPTION:Shepherds of Mt. Magazine Chapter 508 of the Christian Motorcyclists Association
X-ALT-DESC;FMTTYPE=text/html:Shepherds of Mt. Magazine Chapter 508 of the Christian Motorcyclists Association
LOCATION:Grapevine Restaurant\, Paris\, AR
UID:e.2208.746
SEQUENCE:3
DTSTAMP:20260423T063740Z
URL:https://business.parisarkansas.com/events/details/shepherds-of-mt-magazine-chapter-meeting-07-21-2015-746
END:VEVENT

END:VCALENDAR
