BEGIN:VCALENDAR
VERSION:2.0
PRODID:-//ChamberMaster//Event Calendar 2.0//EN
METHOD:PUBLISH
X-PUBLISHED-TTL:P3D
REFRESH-INTERVAL:P3D
CALSCALE:GREGORIAN
BEGIN:VEVENT
DTSTART:20150912T000000Z
DTEND:20150912T030000Z
X-MICROSOFT-CDO-ALLDAYEVENT:FALSE
SUMMARY:Scout Sign-up
DESCRIPTION:If your son\, grandson\, or any boy age 6 and up\, are interested in joining the Scouts in Paris\, please come to the Legion Hut/Scout Hut. We have a new building that we meet at every week\, a lot of new activities and an opportunity of a lifetime for your boy. Joining Scouts provides an opportunity for your boy. To become a Scout just come on out and join our team.
X-ALT-DESC;FMTTYPE=text/html:If your son\, grandson\, or any boy age 6 and up\, are interested in joining the Scouts in Paris\, please come to the Legion Hut/Scout Hut. We have a new building that we meet at every week\, a lot of new activities and an opportunity of a lifetime for your boy. Joining Scouts provides an opportunity for your boy. To become a Scout just come on out and join our team.
LOCATION:American Legion/ Scout Hut
UID:e.2208.752
SEQUENCE:3
DTSTAMP:20260423T033934Z
URL:https://business.parisarkansas.com/events/details/scout-sign-up-09-11-2015-752
END:VEVENT

END:VCALENDAR
