BEGIN:VCALENDAR
VERSION:2.0
PRODID:-//ChamberMaster//Event Calendar 2.0//EN
METHOD:PUBLISH
X-PUBLISHED-TTL:P3D
REFRESH-INTERVAL:P3D
CALSCALE:GREGORIAN
BEGIN:VEVENT
DTSTART:20150611T213000Z
DTEND:20150611T223000Z
X-MICROSOFT-CDO-ALLDAYEVENT:FALSE
SUMMARY:School Board Meeting
DESCRIPTION:
X-ALT-DESC;FMTTYPE=text/html:
LOCATION:PMS Campus A4
UID:e.2208.249
SEQUENCE:3
DTSTAMP:20260423T081352Z
URL:https://business.parisarkansas.com/events/details/school-board-meeting-06-11-2015-249
END:VEVENT

END:VCALENDAR
