BEGIN:VCALENDAR
VERSION:2.0
PRODID:-//ChamberMaster//Event Calendar 2.0//EN
METHOD:PUBLISH
X-PUBLISHED-TTL:P3D
REFRESH-INTERVAL:P3D
CALSCALE:GREGORIAN
BEGIN:VEVENT
DTSTART:20151003T163000Z
DTEND:20151003T220000Z
X-MICROSOFT-CDO-ALLDAYEVENT:FALSE
SUMMARY:Sabrina's Grand Opening
DESCRIPTION:Grand Opening! Vendors\, refreshment\, and door prizes. 9:30-3:00
X-ALT-DESC;FMTTYPE=text/html:Grand Opening! Vendors\, refreshment\, and door prizes. 9:30-3:00
LOCATION:16 W. Walnut Street. On the Square in Paris
UID:e.2208.959
SEQUENCE:3
DTSTAMP:20260423T020350Z
URL:https://business.parisarkansas.com/events/details/sabrina-s-grand-opening-10-03-2015-959
END:VEVENT

END:VCALENDAR
