BEGIN:VCALENDAR
VERSION:2.0
PRODID:-//ChamberMaster//Event Calendar 2.0//EN
METHOD:PUBLISH
X-PUBLISHED-TTL:P3D
REFRESH-INTERVAL:P3D
CALSCALE:GREGORIAN
BEGIN:VEVENT
DTSTART:20150923T003000Z
DTEND:20150923T020000Z
X-MICROSOFT-CDO-ALLDAYEVENT:FALSE
SUMMARY:Relay For Life of North Logan
DESCRIPTION:RELAY FOR LIFE OF NORTH LOGAN COUNTY PLANNING MEETING FOR RELAY 2016 FOOD! PLANNING & MORE! INVITE YOUR TEAMMATES\, SURVIVORS\, SPONSORS\, PARTICIPANTS\, FAMILY AND FRIENDS REMEMBER THE EXPERIENCE. CELEBRATE THE ACCOMPLISHMENT. COMMIT TO CONTINUE THE FIGHT. WHEN: TUESDAY\, SEPTEMBER 22\, 2015 FROM 6:00-7:30PM WHERE: First National Bank Community Room Please RSVP by Monday\, September 21st to Shannon Cox @ shannon.cox@cancer.org or text/call 318-315-2368 VOTE ON THE 2016 RELAY FOR LIFE THEME!
X-ALT-DESC;FMTTYPE=text/html:RELAY FOR LIFE OF NORTH LOGAN COUNTY PLANNING MEETING FOR RELAY 2016 FOOD! PLANNING &amp\; MORE! INVITE YOUR TEAMMATES\, SURVIVORS\, SPONSORS\, PARTICIPANTS\, FAMILY AND FRIENDS REMEMBER THE EXPERIENCE. CELEBRATE THE ACCOMPLISHMENT. COMMIT TO CONTINUE THE FIGHT. WHEN: TUESDAY\, SEPTEMBER 22\, 2015 FROM 6:00-7:30PM WHERE: First National Bank Community Room Please RSVP by Monday\, September 21st to Shannon Cox @ shannon.cox@cancer.org or text/call 318-315-2368 VOTE ON THE 2016 RELAY FOR LIFE THEME!
LOCATION:First National Bank Community Room
UID:e.2208.753
SEQUENCE:3
DTSTAMP:20260423T034952Z
URL:https://business.parisarkansas.com/events/details/relay-for-life-of-north-logan-09-22-2015-753
END:VEVENT

END:VCALENDAR
