BEGIN:VCALENDAR
VERSION:2.0
PRODID:-//ChamberMaster//Event Calendar 2.0//EN
METHOD:PUBLISH
X-PUBLISHED-TTL:P3D
REFRESH-INTERVAL:P3D
CALSCALE:GREGORIAN
BEGIN:VEVENT
DTSTART:20160429T220000Z
DTEND:20160430T020000Z
X-MICROSOFT-CDO-ALLDAYEVENT:FALSE
SUMMARY:Relay For Life of North Logan
DESCRIPTION:The American Cancer Society Relay For Life movement is the world's largest fundraising event to fight every cancer in every community. Rallying the passion of more than four million people around the world\, funds raised through the events help the Society make progress in finding cures and removing barriers for people facing the disease. The Relay For Life movement fuels the mission of the American Cancer Society\, an organization that touches the lives of so many ? those who are battling cancer\, those who may face a diagnosis\, and those who may avoid a diagnosis altogether thanks to education\, prevention\, and early detection.
X-ALT-DESC;FMTTYPE=text/html:<p>The American Cancer Society Relay For Life movement is the world&#39\;s largest fundraising event to fight every cancer in every community. Rallying the passion of more than four million people around the world\, funds raised through the events help the Society make progress in finding cures and removing barriers for people facing the disease. The Relay For Life movement fuels the mission of the American Cancer Society\, an organization that touches the lives of so many ? those who are battling cancer\, those who may face a diagnosis\, and those who may avoid a diagnosis altogether thanks to education\, prevention\, and early detection.</p>\n
LOCATION:Relay For Life of North Logan County will be held on April 29\, 2016 at Wood Street Paris across from Paris High School in Paris\, AR with food \, games\, bounce houses\, luminaries\, kids activities \, music and more!
UID:e.2208.1246
SEQUENCE:3
DTSTAMP:20260422T171727Z
URL:https://business.parisarkansas.com/events/details/relay-for-life-of-north-logan-04-29-2016-1246
END:VEVENT

END:VCALENDAR
