BEGIN:VCALENDAR
VERSION:2.0
PRODID:-//ChamberMaster//Event Calendar 2.0//EN
METHOD:PUBLISH
X-PUBLISHED-TTL:P3D
REFRESH-INTERVAL:P3D
CALSCALE:GREGORIAN
BEGIN:VEVENT
DTSTART:20160625T230000Z
DTEND:20160626T030000Z
X-MICROSOFT-CDO-ALLDAYEVENT:FALSE
SUMMARY:RATCLIFF FIREWORKS DISPLAY
DESCRIPTION:RATCLIFF FIRE DEPARTMENT PRESENTS FOURTH OF JULY CELEBRATION. SATURDAY JUNE 25\, 2016 STARTING AT 6 PM FIREWORKS AT DARK FREE FOOD & DRINKS FAMILY ENTERTAINMENT BRING YOUR LAWN CHAIRS.
X-ALT-DESC;FMTTYPE=text/html:RATCLIFF FIRE DEPARTMENT PRESENTS FOURTH OF JULY CELEBRATION. SATURDAY JUNE 25\, 2016 STARTING AT 6 PM FIREWORKS AT DARK FREE FOOD &amp\; DRINKS FAMILY ENTERTAINMENT BRING YOUR LAWN CHAIRS.
LOCATION:RATCLIFF CITY HALL/FIRE STATION 1
UID:e.2208.1454
SEQUENCE:3
DTSTAMP:20260422T140825Z
URL:https://business.parisarkansas.com/events/details/ratcliff-fireworks-display-06-25-2016-1454
END:VEVENT

END:VCALENDAR
