BEGIN:VCALENDAR
VERSION:2.0
PRODID:-//ChamberMaster//Event Calendar 2.0//EN
METHOD:PUBLISH
X-PUBLISHED-TTL:P3D
REFRESH-INTERVAL:P3D
CALSCALE:GREGORIAN
BEGIN:VEVENT
DTSTART:20161021T000000Z
DTEND:20161101T030000Z
X-MICROSOFT-CDO-ALLDAYEVENT:FALSE
SUMMARY:RATCLIFF FIRE DEPT PRESENTS HAUNTED HOUSE & HAYRIDE
DESCRIPTION:HAUNTED HOUSE\, HAY RIDE\, FOOD AND DRINKS FOR SALE.
X-ALT-DESC;FMTTYPE=text/html:HAUNTED HOUSE\, HAY&nbsp\;RIDE\, FOOD AND DRINKS FOR SALE.
LOCATION:LOCATED ON HWY 22 CARBON CITY\, AR
UID:e.2208.1914
SEQUENCE:3
DTSTAMP:20260422T074444Z
URL:https://business.parisarkansas.com/events/details/ratcliff-fire-dept-presents-haunted-house-hayride-1914
END:VEVENT

END:VCALENDAR
