BEGIN:VCALENDAR
VERSION:2.0
PRODID:-//ChamberMaster//Event Calendar 2.0//EN
METHOD:PUBLISH
X-PUBLISHED-TTL:P3D
REFRESH-INTERVAL:P3D
CALSCALE:GREGORIAN
BEGIN:VEVENT
DTSTART:20161204T000000Z
DTEND:20161204T010000Z
X-MICROSOFT-CDO-ALLDAYEVENT:FALSE
SUMMARY:RAIN DATE Christmas Parade
DESCRIPTION:RAIN DATE!!!!! If the Christmas Parade gets rained out or canceled\, it will take place the following Saturday! December 3rd at 6pm
X-ALT-DESC;FMTTYPE=text/html:RAIN DATE!!!!! If the Christmas Parade gets rained out or canceled\, it will take place the following Saturday! December 3rd at 6pm&nbsp\;
LOCATION:
UID:e.2208.1881
SEQUENCE:3
DTSTAMP:20260422T010904Z
URL:https://business.parisarkansas.com/events/details/rain-date-christmas-parade-12-03-2016-1881
END:VEVENT

END:VCALENDAR
