BEGIN:VCALENDAR
VERSION:2.0
PRODID:-//ChamberMaster//Event Calendar 2.0//EN
METHOD:PUBLISH
X-PUBLISHED-TTL:P3D
REFRESH-INTERVAL:P3D
CALSCALE:GREGORIAN
BEGIN:VEVENT
DTSTART:20151027T200000Z
DTEND:20151027T213000Z
X-MICROSOFT-CDO-ALLDAYEVENT:FALSE
SUMMARY:Put Your Business on the Map with Google
DESCRIPTION:The Arkansas Small Business and Technology Development Center is partnering with Google to help put every business on the map. Put Your Business on the Map with Google will be held on October 27 from 1:00 to 2:30 PM at the First National Bank Community Center in Paris. Businesses with complete online listings are twice as likely to be considered reputable by consumers. Putting your business on Google?s map makes it easier for people to find and connect with your business online. This hands-on workshop will help you find out what your listing looks like on Google search and maps and includes work time to manage your online business information. Although there is no charge to attend\, seating is limited and registration required at 479-356-2067 or http://asbtdc.org/training/russellville-events.
X-ALT-DESC;FMTTYPE=text/html:The Arkansas Small Business and Technology Development Center is partnering with Google to help put every business on the map. Put Your Business on the Map with Google will be held on October 27 from 1:00 to 2:30 PM at the First National Bank Community Center in Paris. Businesses with complete online listings are twice as likely to be considered reputable by consumers. Putting your business on Google?s map makes it easier for people to find and connect with your business online. This hands-on workshop will help you find out what your listing looks like on Google search and maps and includes work time to manage your online business information. Although there is no charge to attend\, seating is limited and registration required at 479-356-2067 or http://asbtdc.org/training/russellville-events.
LOCATION:First National Bank Community Center\, Paris
UID:e.2208.755
SEQUENCE:3
DTSTAMP:20260423T020351Z
URL:https://business.parisarkansas.com/events/details/put-your-business-on-the-map-with-google-10-27-2015-755
END:VEVENT

END:VCALENDAR
