BEGIN:VCALENDAR
VERSION:2.0
PRODID:-//ChamberMaster//Event Calendar 2.0//EN
METHOD:PUBLISH
X-PUBLISHED-TTL:P3D
REFRESH-INTERVAL:P3D
CALSCALE:GREGORIAN
BEGIN:VEVENT
DTSTART:20150401T183000Z
DTEND:20150401T193000Z
X-MICROSOFT-CDO-ALLDAYEVENT:FALSE
SUMMARY:PTO Meeting
DESCRIPTION:PTO meeting at Paris Elementary - open to any parent/guardian of PES students.
X-ALT-DESC;FMTTYPE=text/html:PTO meeting at Paris Elementary - open to any parent/guardian of PES students.
LOCATION:PES library
UID:e.2208.206
SEQUENCE:3
DTSTAMP:20260423T113948Z
URL:https://business.parisarkansas.com/events/details/pto-meeting-04-01-2015-206
END:VEVENT

END:VCALENDAR
