BEGIN:VCALENDAR
VERSION:2.0
PRODID:-//ChamberMaster//Event Calendar 2.0//EN
METHOD:PUBLISH
X-PUBLISHED-TTL:P3D
REFRESH-INTERVAL:P3D
CALSCALE:GREGORIAN
BEGIN:VEVENT
DTSTART:20160220T000000Z
DTEND:20160220T020000Z
X-MICROSOFT-CDO-ALLDAYEVENT:FALSE
SUMMARY:PTO Family Movie Night
DESCRIPTION:Free family movie night for the community. Popcorn and drinks served free to the public all sponsored by the Paris Elementary PTO.
X-ALT-DESC;FMTTYPE=text/html:Free family movie night for the community. Popcorn and drinks served free to the public all sponsored by the Paris Elementary PTO.
LOCATION:Paris Middle School Auditorium
UID:e.2208.1113
SEQUENCE:3
DTSTAMP:20260422T185932Z
URL:https://business.parisarkansas.com/events/details/pto-family-movie-night-02-19-2016-1113
END:VEVENT

END:VCALENDAR
