BEGIN:VCALENDAR
VERSION:2.0
PRODID:-//ChamberMaster//Event Calendar 2.0//EN
METHOD:PUBLISH
X-PUBLISHED-TTL:P3D
REFRESH-INTERVAL:P3D
CALSCALE:GREGORIAN
BEGIN:VEVENT
DTSTART:20150221T180000Z
DTEND:20150221T200000Z
X-MICROSOFT-CDO-ALLDAYEVENT:FALSE
SUMMARY:Polar Plunge Fundraiser
DESCRIPTION:Polar plunge into Cove lake to raise money for needy cause.
X-ALT-DESC;FMTTYPE=text/html:Polar plunge into Cove lake to raise money for needy cause.
LOCATION:Cove Lake
UID:e.2208.167
SEQUENCE:3
DTSTAMP:20260423T162255Z
URL:https://business.parisarkansas.com/events/details/polar-plunge-fundraiser-02-21-2015-167
END:VEVENT

END:VCALENDAR
