BEGIN:VCALENDAR
VERSION:2.0
PRODID:-//ChamberMaster//Event Calendar 2.0//EN
METHOD:PUBLISH
X-PUBLISHED-TTL:P3D
REFRESH-INTERVAL:P3D
CALSCALE:GREGORIAN
BEGIN:VEVENT
DTSTART;VALUE=DATE:20240408
DTEND;VALUE=DATE:20240409
TRANSP:TRANSPARENT
X-MICROSOFT-CDO-ALLDAYEVENT:TRUE
SUMMARY:PHS Band Booster Eclipse Pancake Breakfast
DESCRIPTION:Paris High School Bank Boosters will host an Eclipse Pancake Breakfast at the Union Bank Community Center on April 8\, 2024 starting at 6:00 a.m. \n\nCome out and support the PHS Bank Boosters and have breakfast before the Great American Eclipse.
X-ALT-DESC;FMTTYPE=text/html:Paris High School Bank Boosters will host an Eclipse Pancake Breakfast at the Union Bank Community Center on April 8\, 2024 starting at 6:00 a.m.&nbsp\;<br />\nCome out and support the PHS Bank Boosters and have breakfast before the Great American Eclipse.
LOCATION:Union Bank Community Center 23 East Main Street Paris\, AR
UID:e.2208.3207
SEQUENCE:3
DTSTAMP:20260422T230124Z
URL:https://business.parisarkansas.com/events/details/phs-band-booster-eclipse-pancake-breakfast-3207
END:VEVENT

END:VCALENDAR
