BEGIN:VCALENDAR
VERSION:2.0
PRODID:-//ChamberMaster//Event Calendar 2.0//EN
METHOD:PUBLISH
X-PUBLISHED-TTL:P3D
REFRESH-INTERVAL:P3D
CALSCALE:GREGORIAN
BEGIN:VEVENT
DTSTART:20150530T140000Z
DTEND:20150530T200000Z
X-MICROSOFT-CDO-ALLDAYEVENT:FALSE
SUMMARY:Peak to Peak poker run
DESCRIPTION:The Peak to Peak poker run will start at Queen Wilhelmina to Mt Magazine State Park. Paris will host the 4th stop at the Eiffel Tower Park with music from the stage and food and craft vendors set up on Express St.
X-ALT-DESC;FMTTYPE=text/html:The Peak to Peak poker run will start at Queen Wilhelmina&nbsp\;to Mt Magazine State Park. Paris will host the 4th stop at the Eiffel Tower Park with music from the stage and food and craft vendors set up on Express St.
LOCATION:Eiffel Tower Park
UID:e.2208.728
SEQUENCE:3
DTSTAMP:20260423T092719Z
URL:https://business.parisarkansas.com/events/details/peak-to-peak-poker-run-05-30-2015-728
END:VEVENT

END:VCALENDAR
