BEGIN:VCALENDAR
VERSION:2.0
PRODID:-//ChamberMaster//Event Calendar 2.0//EN
METHOD:PUBLISH
X-PUBLISHED-TTL:P3D
REFRESH-INTERVAL:P3D
CALSCALE:GREGORIAN
BEGIN:VEVENT
DTSTART:20150804T210000Z
DTEND:20150805T030000Z
X-MICROSOFT-CDO-ALLDAYEVENT:FALSE
SUMMARY:Paris School Pre Registration
DESCRIPTION:Do you love filling out all the "first of school paperwork each year? Of Course not\, so join us for our 1st annual Pre Registration! Each family will: Update address\, phone\, medical\, transportation\, cafeteria and HAC information. There will be very little paperwork "sent home" that first week for you to sign\, if you attend this event. 5 Walmart gift cards worth $75 each will be given away!
X-ALT-DESC;FMTTYPE=text/html:Do you love filling out all the &quot\;first of school paperwork each year? Of Course not\, so join us for our 1st annual Pre Registration! Each family will: Update address\, phone\, medical\, transportation\, cafeteria and HAC information. There will be very little paperwork &quot\;sent home&quot\; that first week for you to sign\, if you attend this event. 5 Walmart gift cards worth $75 each will be given away!
LOCATION:Paris High School Cafeteria
UID:e.2208.750
SEQUENCE:3
DTSTAMP:20260423T061603Z
URL:https://business.parisarkansas.com/events/details/paris-school-pre-registration-08-04-2015-750
END:VEVENT

END:VCALENDAR
