BEGIN:VCALENDAR
VERSION:2.0
PRODID:-//ChamberMaster//Event Calendar 2.0//EN
METHOD:PUBLISH
X-PUBLISHED-TTL:P3D
REFRESH-INTERVAL:P3D
CALSCALE:GREGORIAN
BEGIN:VEVENT
DTSTART:20250805T200000Z
DTEND:20250805T230000Z
X-MICROSOFT-CDO-ALLDAYEVENT:FALSE
SUMMARY:Paris Middle School Open House
DESCRIPTION:Join Us at Paris Middle School's Open House!\n\n\n\nParents and students\, mark your calendars! Paris Middle School is hosting an Open House on Tuesday\, August 5th\, from 3:00 PM to 6:00 PM.\n\n\n\nThis is a fantastic opportunity for everyone to:\n\n\n	Explore the school and get familiar with the campus.\n	Meet your teachers and staff and start building those important connections.\n	Discover what's new and exciting for the upcoming school year!\n\n\n\n\nWe can't wait to see you there!
X-ALT-DESC;FMTTYPE=text/html:<div class="xdj266r x14z9mp xat24cr x1lziwak x1vvkbs x126k92a" style="white-space: pre-wrap\; -webkit-text-size-adjust: auto\; margin: 0px\; overflow-wrap: break-word\; font-family: system-ui\, -apple-system\, BlinkMacSystemFont\, &quot\;.SFNSText-Regular&quot\;\, sans-serif\; caret-color: rgb(8\, 8\, 9)\; color: rgb(8\, 8\, 9)\; font-size: 15px\;">\n<div dir="auto" style="font-family: inherit\;">Join Us at Paris Middle School&#39\;s Open House!<br />\n<br />\nParents and students\, mark your calendars! Paris Middle School is hosting an Open House on Tuesday\, August 5th\, from 3:00 PM to 6:00 PM.<br />\n<br />\nThis is a fantastic opportunity for everyone to:</div>\n\n<ul dir="ltr">\n	<li style="font-family: inherit\;">Explore the school and get familiar with the campus.</li>\n	<li style="font-family: inherit\;">Meet your teachers and staff and start building those important connections.</li>\n	<li style="font-family: inherit\;">Discover what&#39\;s new and exciting for the upcoming school year!</li>\n</ul>\n</div>\n\n<div class="x14z9mp xat24cr x1lziwak x1vvkbs xtlvy1s x126k92a" style="white-space: pre-wrap\; -webkit-text-size-adjust: auto\; margin: 0.5em 0px 0px\; overflow-wrap: break-word\; font-family: system-ui\, -apple-system\, BlinkMacSystemFont\, &quot\;.SFNSText-Regular&quot\;\, sans-serif\; caret-color: rgb(8\, 8\, 9)\; color: rgb(8\, 8\, 9)\; font-size: 15px\;">\n<div style="font-family: inherit\;">We can&#39\;t wait to see you there!</div>\n</div>\n
LOCATION:
UID:e.2208.3255
SEQUENCE:3
DTSTAMP:20260420T055829Z
URL:https://business.parisarkansas.com/events/details/paris-middle-school-open-house-3255
END:VEVENT

END:VCALENDAR
