BEGIN:VCALENDAR
VERSION:2.0
PRODID:-//ChamberMaster//Event Calendar 2.0//EN
METHOD:PUBLISH
X-PUBLISHED-TTL:P3D
REFRESH-INTERVAL:P3D
CALSCALE:GREGORIAN
BEGIN:VEVENT
DTSTART;VALUE=DATE:20150418
DTEND;VALUE=DATE:20150419
TRANSP:TRANSPARENT
X-MICROSOFT-CDO-ALLDAYEVENT:TRUE
SUMMARY:Paris High School Prom
DESCRIPTION:Junior and Senior Class Prom
X-ALT-DESC;FMTTYPE=text/html:Junior and Senior Class Prom
LOCATION:Paris High School
UID:e.2208.200
SEQUENCE:3
DTSTAMP:20260423T114136Z
URL:https://business.parisarkansas.com/events/details/paris-high-school-prom-04-18-2015-200
END:VEVENT

END:VCALENDAR
