BEGIN:VCALENDAR
VERSION:2.0
PRODID:-//ChamberMaster//Event Calendar 2.0//EN
METHOD:PUBLISH
X-PUBLISHED-TTL:P3D
REFRESH-INTERVAL:P3D
CALSCALE:GREGORIAN
BEGIN:VEVENT
DTSTART:20150313T190000Z
DTEND:20150413T190000Z
X-MICROSOFT-CDO-ALLDAYEVENT:FALSE
SUMMARY:Paris Hall of Fame Nominations
DESCRIPTION:Window to turn in nominations for Paris Hall of Fame.
X-ALT-DESC;FMTTYPE=text/html:Window to turn in nominations for Paris Hall of Fame.
LOCATION:Paris Schools Central Office
UID:e.2208.204
SEQUENCE:3
DTSTAMP:20260423T114619Z
URL:https://business.parisarkansas.com/events/details/paris-hall-of-fame-nominations-03-13-2015-204
END:VEVENT

END:VCALENDAR
