BEGIN:VCALENDAR
VERSION:2.0
PRODID:-//ChamberMaster//Event Calendar 2.0//EN
METHOD:PUBLISH
X-PUBLISHED-TTL:P3D
REFRESH-INTERVAL:P3D
CALSCALE:GREGORIAN
BEGIN:VEVENT
DTSTART:20170620T130000Z
DTEND:20170620T170000Z
X-MICROSOFT-CDO-ALLDAYEVENT:FALSE
SUMMARY:Paris Farmers Market
DESCRIPTION:Paris Farmers Market - Downtown Paris Spring To Fall
X-ALT-DESC;FMTTYPE=text/html:<strong>Paris Farmers Market</strong>&nbsp\;- Downtown Paris Spring To Fall
LOCATION:Around the Square at Paris\, AR
UID:e.2208.1949
SEQUENCE:3
DTSTAMP:20260421T181134Z
URL:https://business.parisarkansas.com/events/details/paris-farmers-market-06-20-2017-1949
END:VEVENT

END:VCALENDAR
