BEGIN:VCALENDAR
VERSION:2.0
PRODID:-//ChamberMaster//Event Calendar 2.0//EN
METHOD:PUBLISH
X-PUBLISHED-TTL:P3D
REFRESH-INTERVAL:P3D
CALSCALE:GREGORIAN
BEGIN:VEVENT
DTSTART:20260509T230000Z
DTEND:20260510T030000Z
X-MICROSOFT-CDO-ALLDAYEVENT:FALSE
SUMMARY:Paris Cruise night. Crusin 22.
DESCRIPTION:
X-ALT-DESC;FMTTYPE=text/html:
LOCATION:Paris ar
UID:e.2208.3409
SEQUENCE:3
DTSTAMP:20260424T202057Z
URL:https://business.parisarkansas.com/events/details/paris-cruise-night-crusin-22-3409
END:VEVENT

END:VCALENDAR
