BEGIN:VCALENDAR
VERSION:2.0
PRODID:-//ChamberMaster//Event Calendar 2.0//EN
METHOD:PUBLISH
X-PUBLISHED-TTL:P3D
REFRESH-INTERVAL:P3D
CALSCALE:GREGORIAN
BEGIN:VEVENT
DTSTART;VALUE=DATE:20151017
DTEND;VALUE=DATE:20151018
TRANSP:TRANSPARENT
X-MICROSOFT-CDO-ALLDAYEVENT:TRUE
SUMMARY:Paris Boys & Girls Club Golf Tournament
DESCRIPTION:Annual Charity Golf Tournament Saturday Oct 17\, 2015 @ 9:00 am Little Creek Golf Club-Ratcliff\, AR 479-635-5551 Registration: 8-9am 3 Person Scramble 18 Hole Shotgun Start $150 per team Call to Pre-register (not including cart fee) $5 Mulligans Limited cart rental- Call to reserve Limited to first 24 teams that sign up!!!!!
X-ALT-DESC;FMTTYPE=text/html:Annual Charity Golf Tournament Saturday Oct 17\, 2015 @ 9:00&nbsp\;am Little Creek Golf Club-Ratcliff\, AR 479-635-5551 Registration: 8-9am 3 Person Scramble 18 Hole Shotgun Start $150 per team Call to Pre-register (not including cart fee) $5 Mulligans Limited cart rental- Call to reserve Limited to first 24 teams that sign up!!!!!
LOCATION:Little Creek Golf Club Ratcliff\, AR
UID:e.2208.754
SEQUENCE:3
DTSTAMP:20260423T020627Z
URL:https://business.parisarkansas.com/events/details/paris-boys-girls-club-golf-tournament-10-17-2015-754
END:VEVENT

END:VCALENDAR
