BEGIN:VCALENDAR
VERSION:2.0
PRODID:-//ChamberMaster//Event Calendar 2.0//EN
METHOD:PUBLISH
X-PUBLISHED-TTL:P3D
REFRESH-INTERVAL:P3D
CALSCALE:GREGORIAN
BEGIN:VEVENT
DTSTART:20170626T180000Z
DTEND:20170627T000000Z
X-MICROSOFT-CDO-ALLDAYEVENT:FALSE
SUMMARY:Paris Adult Education Classes (GED\, ESL\, WAGE\, & Computer Literacy)
DESCRIPTION:PARIS ADULT EDUCATION CLASSES \n\n(GED\, ESL\, WAGE\, & COMPUTER LITERACY)
X-ALT-DESC;FMTTYPE=text/html:PARIS ADULT EDUCATION CLASSES&nbsp\;<br />\n(GED\, ESL\, WAGE\, &amp\; COMPUTER LITERACY)
LOCATION:Paris Center
UID:e.2208.2176
SEQUENCE:3
DTSTAMP:20260421T163301Z
URL:https://business.parisarkansas.com/events/details/paris-adult-education-classes-ged-esl-wage-computer-literacy-2176
END:VEVENT

END:VCALENDAR
